BEGIN:VCALENDAR
VERSION:2.0
PRODID:-//Tukios.com/
BEGIN:VEVENT
UID:abd869d5-67a7-4e95-90b0-6f3d0506fa52@www.russellfuneralchapel.net
DTSTAMP:20260422T024923Z
DTSTART:20260425
SUMMARY:Burial
DESCRIPTION:
URL:https://www.russellfuneralchapel.net/obituaries/mary-lou-flanagan
LOCATION: 1681 Highway 35  Saint Stephen SC 29479
GEO:33.4125397;-79.9628582
END:VEVENT
END:VCALENDAR