BEGIN:VCALENDAR
VERSION:2.0
PRODID:-//Tukios.com/
BEGIN:VEVENT
UID:a66f469d-b312-4df0-9843-4ada5d4f8165@www.russellfuneralchapel.net
DTSTAMP:20260422T024536Z
DTSTART:20260425T193000Z
DTEND:20260425T203000Z
SUMMARY:Funeral Service
DESCRIPTION:
URL:https://www.russellfuneralchapel.net/obituaries/mary-lou-flanagan
LOCATION: 1681 Highway 35  Saint Stephen SC 29479
GEO:33.4125397;-79.9628582
END:VEVENT
END:VCALENDAR