BEGIN:VCALENDAR
VERSION:2.0
PRODID:-//Tukios.com/
BEGIN:VEVENT
UID:bf592eba-9066-4de0-9a15-5afeebcfc3b4@www.russellfuneralchapel.net
DTSTAMP:20260422T024221Z
DTSTART:20260425T183000Z
DTEND:20260425T193000Z
SUMMARY:Visitation
DESCRIPTION:
URL:https://www.russellfuneralchapel.net/obituaries/mary-lou-flanagan
LOCATION:Russellville Christian Church 1681 N State Hwy 35  St Stephen SC 
	29479
GEO:33.3934245;-79.9705971
END:VEVENT
END:VCALENDAR