BEGIN:VCALENDAR
VERSION:2.0
PRODID:-//Tukios.com/
BEGIN:VEVENT
UID:6eea849f-7166-43e0-a8a3-e63de2fbd854@www.russellfuneralchapel.net
DTSTAMP:20260422T022938Z
DTSTART:20260425T150000Z
DTEND:20260425T160000Z
SUMMARY:Funeral Service
DESCRIPTION:
URL:https://www.russellfuneralchapel.net/obituaries/brenda-dupre
LOCATION:Calvary Baptist Church 1555 S Live Oak Dr  Moncks Corner SC 
	29461
GEO:33.1541901;-80.0600213
END:VEVENT
END:VCALENDAR