BEGIN:VCALENDAR
VERSION:2.0
PRODID:-//Tukios.com/
BEGIN:VEVENT
UID:4f5b6fea-d49f-4646-abbe-337f6ea3bef7@www.russellfuneralchapel.net
DTSTAMP:20260422T023508Z
DTSTART:20260424T210000Z
DTEND:20260424T230000Z
SUMMARY:Visitation
DESCRIPTION:
URL:https://www.russellfuneralchapel.net/obituaries/brenda-dupre
LOCATION: 107 W Main St  Moncks Corner SC 29461
GEO:33.1962583;-80.0144402
END:VEVENT
END:VCALENDAR